BEGIN:VCALENDAR
VERSION:2.0
PRODID:-//CeeD//NONSGML CeeD Event iCal//EN
X-WR-TIMEZONE:Europe/London
X-PUBLISHED-TTL:PT1H
METHOD:PUBLISH
BEGIN:VEVENT
UID:CiviCRM_EventID_2088_2b6270a84c4343d2cab749c1ed6d7d8b@ceed-scotland.com
SUMMARY:260527 Skills Velocity – The Future of Learning 
 Humans\, Machines & Agentics
DESCRIPTION:&nbsp\;\n \n Skills Velocity &ndash\; The Future o
 f Learning Humans\, Machines &amp\; Agentics\n \n 
 Join fellow CeeD members for a practical workshop 
 exploring how organisations are tackling skills\, 
 technology and workforce change through simple\, a
 ffordable innovation.\n \n Do any of these sound f
 amiliar?\n \n &bull\; Long time to productivity fo
 r new hires and high employee churn\n &bull\; Lega
 cy machinery with limited data\, reporting or qual
 ity checks\n &bull\; Rapid generational change in 
 the workforce and uncertainty over how to respond\
 n \n In this session\, CeeD member Create LMS&nbsp
 \;will share seven short real world case studies s
 howing how businesses have turned everyday frustra
 tions into measurable results. The focus is on wha
 t actually worked\, what it cost and the lessons l
 earned.\n \n Each case study covers:\n \n &bull\; 
 The challenge and business impact\n &bull\; The so
 lution using accessible software\, sensors\, AI an
 d process improvements\n &bull\; The outcomes\, be
 nefits and practical takeaways\n \n You are encour
 aged to bring your own challenges to share\, wheth
 er people\, machines or emerging agentic technolog
 ies.\n \n This session is ideal for leaders intere
 sted in improving efficiency\, operations\, compli
 ance\, customer experience and learning outcomes. 
 Expect practical ideas you can use immediately.\n 
 \n Come for the inspiration. Leave with ideas you 
 can apply. We look forward to seeing you there.
CATEGORIES:CeeD Member Only
CALSCALE:GREGORIAN
DTSTAMP;VALUE=DATE-TIME:20260527T093000
DTSTART;VALUE=DATE-TIME:20260527T093000
DTEND;VALUE=DATE-TIME:20260527T130000
LOCATION:Barclays Eagle Labs\n Beco Building\n 58 Kingston 
 Street\n Glasgow\, G5 8BP\n United Kingdom\n 
ORGANIZER:MAILTO:m.mccullagh@ceed-scotland.com
URL:https://ceed-scotland.com/civicrm/event/info?reset=1&id=2088
END:VEVENT
END:VCALENDAR
